Package: IgGeneUsage Version: 1.20.0 Command: /home/biocbuild/bbs-3.20-bioc/R/bin/R CMD build --keep-empty-dirs --no-resave-data --md5 IgGeneUsage StartedAt: 2025-02-03 17:51:51 -0500 (Mon, 03 Feb 2025) EndedAt: 2025-02-03 18:08:08 -0500 (Mon, 03 Feb 2025) EllapsedTime: 977.3 seconds RetCode: 0 Status: OK PackageFile: IgGeneUsage_1.20.0.tar.gz PackageFileSize: 1.303 MiB