Package: IgGeneUsage Version: 1.20.0 Command: /home/biocbuild/bbs-3.20-bioc/R/bin/R CMD INSTALL IgGeneUsage StartedAt: 2025-02-03 15:22:58 -0500 (Mon, 03 Feb 2025) EndedAt: 2025-02-03 15:33:17 -0500 (Mon, 03 Feb 2025) EllapsedTime: 618.3 seconds RetCode: 0 Status: OK