Package: IgGeneUsage
Version: 1.19.0
Command: rm -rf IgGeneUsage.buildbin-libdir && mkdir IgGeneUsage.buildbin-libdir && C:\Users\biocbuild\bbs-3.20-bioc\R\bin\R.exe CMD INSTALL --build --library=IgGeneUsage.buildbin-libdir IgGeneUsage_1.19.0.tar.gz
StartedAt: 2024-07-16 06:19:41 -0400 (Tue, 16 Jul 2024)
EndedAt: 2024-07-16 06:28:56 -0400 (Tue, 16 Jul 2024)
EllapsedTime: 555.7 seconds
RetCode: 0
Status: OK
PackageFile: IgGeneUsage_1.19.0.zip
PackageFileSize: 2.599 <A href="http://en.wikipedia.org/wiki/MiB" target="_blank">MiB</A>