Package: IgGeneUsage Version: 1.20.0 Command: /home/biocbuild/R/R/bin/R CMD build --keep-empty-dirs --no-resave-data IgGeneUsage StartedAt: 2025-02-04 00:21:56 -0000 (Tue, 04 Feb 2025) EndedAt: 2025-02-04 00:44:55 -0000 (Tue, 04 Feb 2025) EllapsedTime: 1378.6 seconds RetCode: 0 Status: OK PackageFile: IgGeneUsage_1.20.0.tar.gz PackageFileSize: 790.8 KiB