Package: InPAS
Version: 2.14.0
Command: /Library/Frameworks/R.framework/Resources/bin/R CMD INSTALL InPAS
StartedAt: 2024-11-08 15:29:32 -0500 (Fri, 08 Nov 2024)
EndedAt: 2024-11-08 15:29:50 -0500 (Fri, 08 Nov 2024)
EllapsedTime: 17.5 seconds
RetCode: 0
Status: OK