Package: InPAS Version: 2.14.1 Command: chmod a+r InPAS -R && F:\biocbuild\bbs-3.20-bioc\R\bin\R.exe CMD build --keep-empty-dirs --no-resave-data InPAS StartedAt: 2025-02-03 19:53:29 -0500 (Mon, 03 Feb 2025) EndedAt: 2025-02-03 19:58:29 -0500 (Mon, 03 Feb 2025) EllapsedTime: 300.3 seconds RetCode: 0 Status: OK PackageFile: InPAS_2.14.1.tar.gz PackageFileSize: 1.316 MiB