Package: InTAD Version: 1.26.0 Command: /Library/Frameworks/R.framework/Resources/bin/R CMD build --keep-empty-dirs --no-resave-data InTAD StartedAt: 2025-02-03 19:46:39 -0500 (Mon, 03 Feb 2025) EndedAt: 2025-02-03 19:48:49 -0500 (Mon, 03 Feb 2025) EllapsedTime: 130.1 seconds RetCode: 0 Status: OK PackageFile: InTAD_1.26.0.tar.gz PackageFileSize: 1.213 MiB