Package: InTAD Version: 1.26.0 Command: /home/biocbuild/bbs-3.20-bioc/R/bin/R CMD INSTALL InTAD StartedAt: 2025-02-10 16:00:40 -0500 (Mon, 10 Feb 2025) EndedAt: 2025-02-10 16:01:13 -0500 (Mon, 10 Feb 2025) EllapsedTime: 33.5 seconds RetCode: 0 Status: OK