Package: InTAD Version: 1.26.0 Command: chmod a+r InTAD -R && F:\biocbuild\bbs-3.20-bioc\R\bin\R.exe CMD build --keep-empty-dirs --no-resave-data InTAD StartedAt: 2025-02-03 19:53:46 -0500 (Mon, 03 Feb 2025) EndedAt: 2025-02-03 19:54:57 -0500 (Mon, 03 Feb 2025) EllapsedTime: 71.8 seconds RetCode: 0 Status: OK PackageFile: InTAD_1.26.0.tar.gz PackageFileSize: 902.7 KiB