Package: InTAD Version: 1.26.0 Command: /home/biocbuild/R/R/bin/R CMD INSTALL InTAD StartedAt: 2025-02-03 21:20:49 -0000 (Mon, 03 Feb 2025) EndedAt: 2025-02-03 21:21:34 -0000 (Mon, 03 Feb 2025) EllapsedTime: 44.8 seconds RetCode: 0 Status: OK