Package: IntEREst Version: 1.30.0 Command: /Library/Frameworks/R.framework/Resources/bin/R CMD build --keep-empty-dirs --no-resave-data IntEREst StartedAt: 2025-02-04 01:58:33 -0500 (Tue, 04 Feb 2025) EndedAt: 2025-02-04 02:01:00 -0500 (Tue, 04 Feb 2025) EllapsedTime: 146.6 seconds RetCode: 0 Status: OK PackageFile: IntEREst_1.30.0.tar.gz PackageFileSize: 1.439 MiB