Package: IntEREst Version: 1.30.0 Command: /Library/Frameworks/R.framework/Resources/bin/R CMD INSTALL IntEREst StartedAt: 2025-02-03 17:32:24 -0500 (Mon, 03 Feb 2025) EndedAt: 2025-02-03 17:33:26 -0500 (Mon, 03 Feb 2025) EllapsedTime: 61.9 seconds RetCode: 0 Status: OK