Package: IntEREst Version: 1.30.0 Command: /home/biocbuild/bbs-3.20-bioc/R/bin/R CMD build --keep-empty-dirs --no-resave-data --md5 IntEREst StartedAt: 2025-02-03 17:54:51 -0500 (Mon, 03 Feb 2025) EndedAt: 2025-02-03 17:56:18 -0500 (Mon, 03 Feb 2025) EllapsedTime: 87.1 seconds RetCode: 0 Status: OK PackageFile: IntEREst_1.30.0.tar.gz PackageFileSize: 1.426 MiB