Package: IntEREst Version: 1.30.0 Command: /home/biocbuild/bbs-3.20-bioc/R/bin/R CMD INSTALL IntEREst StartedAt: 2025-02-03 15:58:18 -0500 (Mon, 03 Feb 2025) EndedAt: 2025-02-03 15:59:20 -0500 (Mon, 03 Feb 2025) EllapsedTime: 61.6 seconds RetCode: 0 Status: OK