Package: IntEREst
Version: 1.29.0
Command: C:\Users\biocbuild\bbs-3.20-bioc\R\bin\R.exe CMD check --no-multiarch --install=check:IntEREst.install-out.txt --library=C:\Users\biocbuild\bbs-3.20-bioc\R\library --no-vignettes --timings IntEREst_1.29.0.tar.gz
StartedAt: 2024-07-16 01:03:52 -0400 (Tue, 16 Jul 2024)
EndedAt: 2024-07-16 01:09:28 -0400 (Tue, 16 Jul 2024)
EllapsedTime: 336.6 seconds
RetCode: 0
Status: OK
CheckDir: IntEREst.Rcheck
Warnings: 0