Package: IntEREst Version: 1.30.0 Command: F:\biocbuild\bbs-3.20-bioc\R\bin\R.exe CMD INSTALL IntEREst StartedAt: 2025-02-03 17:02:19 -0500 (Mon, 03 Feb 2025) EndedAt: 2025-02-03 17:03:36 -0500 (Mon, 03 Feb 2025) EllapsedTime: 76.2 seconds RetCode: 0 Status: OK