Package: InterCellar
Version: 2.12.0
Command: /Library/Frameworks/R.framework/Resources/bin/R CMD build --keep-empty-dirs --no-resave-data InterCellar
StartedAt: 2024-11-19 17:19:10 -0500 (Tue, 19 Nov 2024)
EndedAt: 2024-11-19 17:19:57 -0500 (Tue, 19 Nov 2024)
EllapsedTime: 47.8 seconds
RetCode: 0
Status: OK
PackageFile: InterCellar_2.12.0.tar.gz
PackageFileSize: 4.016 <A href="http://en.wikipedia.org/wiki/MiB" target="_blank">MiB</A>