Package: InterCellar Version: 2.12.0 Command: /home/biocbuild/bbs-3.20-bioc/R/bin/R CMD INSTALL InterCellar StartedAt: 2025-02-03 16:08:25 -0500 (Mon, 03 Feb 2025) EndedAt: 2025-02-03 16:08:57 -0500 (Mon, 03 Feb 2025) EllapsedTime: 31.7 seconds RetCode: 0 Status: OK