Package: InterCellar
Version: 2.11.0
Command: rm -rf InterCellar.buildbin-libdir && mkdir InterCellar.buildbin-libdir && C:\Users\biocbuild\bbs-3.20-bioc\R\bin\R.exe CMD INSTALL --build --library=InterCellar.buildbin-libdir InterCellar_2.11.0.tar.gz
StartedAt: 2024-07-16 06:20:18 -0400 (Tue, 16 Jul 2024)
EndedAt: 2024-07-16 06:20:51 -0400 (Tue, 16 Jul 2024)
EllapsedTime: 32.6 seconds
RetCode: 0
Status: OK
PackageFile: InterCellar_2.11.0.zip
PackageFileSize: 3.166 <A href="http://en.wikipedia.org/wiki/MiB" target="_blank">MiB</A>