Package: InterCellar Version: 2.12.0 Command: rm -rf InterCellar.buildbin-libdir && mkdir InterCellar.buildbin-libdir && F:\biocbuild\bbs-3.20-bioc\R\bin\R.exe CMD INSTALL --build --library=InterCellar.buildbin-libdir InterCellar_2.12.0.tar.gz StartedAt: 2025-02-04 08:45:04 -0500 (Tue, 04 Feb 2025) EndedAt: 2025-02-04 08:46:38 -0500 (Tue, 04 Feb 2025) EllapsedTime: 94.0 seconds RetCode: 0 Status: OK PackageFile: InterCellar_2.12.0.zip PackageFileSize: 3.166 MiB