Package: InterCellar Version: 2.12.0 Command: chmod a+r InterCellar -R && F:\biocbuild\bbs-3.20-bioc\R\bin\R.exe CMD build --keep-empty-dirs --no-resave-data InterCellar StartedAt: 2025-02-03 19:54:40 -0500 (Mon, 03 Feb 2025) EndedAt: 2025-02-03 19:55:36 -0500 (Mon, 03 Feb 2025) EllapsedTime: 55.6 seconds RetCode: 0 Status: OK PackageFile: InterCellar_2.12.0.tar.gz PackageFileSize: 4.015 MiB