Package: InterCellar Version: 2.12.0 Command: F:\biocbuild\bbs-3.20-bioc\R\bin\R.exe CMD check --no-multiarch --install=check:InterCellar.install-out.txt --library=F:\biocbuild\bbs-3.20-bioc\R\library --no-vignettes --timings InterCellar_2.12.0.tar.gz StartedAt: 2025-02-04 02:57:59 -0500 (Tue, 04 Feb 2025) EndedAt: 2025-02-04 03:01:28 -0500 (Tue, 04 Feb 2025) EllapsedTime: 209.2 seconds RetCode: 0 Status: OK CheckDir: InterCellar.Rcheck Warnings: 0