Package: InterCellar Version: 2.12.0 Command: F:\biocbuild\bbs-3.20-bioc\R\bin\R.exe CMD INSTALL InterCellar StartedAt: 2025-02-03 16:18:13 -0500 (Mon, 03 Feb 2025) EndedAt: 2025-02-03 16:19:23 -0500 (Mon, 03 Feb 2025) EllapsedTime: 69.8 seconds RetCode: 0 Status: OK