Package: InterCellar Version: 2.12.0 Command: /home/biocbuild/R/R/bin/R CMD build --keep-empty-dirs --no-resave-data InterCellar StartedAt: 2025-02-04 00:26:11 -0000 (Tue, 04 Feb 2025) EndedAt: 2025-02-04 00:26:58 -0000 (Tue, 04 Feb 2025) EllapsedTime: 47.0 seconds RetCode: 0 Status: OK PackageFile: InterCellar_2.12.0.tar.gz PackageFileSize: 4.078 MiB