Package: InteractionSet Version: 1.34.0 Command: rm -rf InteractionSet.buildbin-libdir && mkdir InteractionSet.buildbin-libdir && /Users/biocbuild/BBS/utils/build-universal.sh InteractionSet_1.34.0.tar.gz /Library/Frameworks/R.framework/Resources/bin/R InteractionSet.buildbin-libdir StartedAt: 2025-02-05 16:18:53 -0500 (Wed, 05 Feb 2025) EndedAt: 2025-02-05 16:19:46 -0500 (Wed, 05 Feb 2025) EllapsedTime: 52.8 seconds RetCode: 0 Status: OK PackageFile: InteractionSet_1.34.0.tgz PackageFileSize: 1.53 MiB