Package: InteractionSet Version: 1.34.0 Command: /Library/Frameworks/R.framework/Resources/bin/R CMD build --keep-empty-dirs --no-resave-data InteractionSet StartedAt: 2025-02-03 19:46:54 -0500 (Mon, 03 Feb 2025) EndedAt: 2025-02-03 19:49:09 -0500 (Mon, 03 Feb 2025) EllapsedTime: 134.6 seconds RetCode: 0 Status: OK PackageFile: InteractionSet_1.34.0.tar.gz PackageFileSize: 391 KiB