Package: InteractionSet Version: 1.34.0 Command: /Library/Frameworks/R.framework/Resources/bin/R CMD check --install=check:InteractionSet.install-out.txt --library=/Library/Frameworks/R.framework/Resources/library --no-vignettes --timings InteractionSet_1.34.0.tar.gz StartedAt: 2025-02-04 05:13:48 -0500 (Tue, 04 Feb 2025) EndedAt: 2025-02-04 05:23:02 -0500 (Tue, 04 Feb 2025) EllapsedTime: 554.1 seconds RetCode: 0 Status: OK CheckDir: InteractionSet.Rcheck Warnings: 0