Package: InteractionSet Version: 1.34.0 Command: /Library/Frameworks/R.framework/Resources/bin/R CMD INSTALL InteractionSet StartedAt: 2025-02-03 15:25:16 -0500 (Mon, 03 Feb 2025) EndedAt: 2025-02-03 15:26:51 -0500 (Mon, 03 Feb 2025) EllapsedTime: 94.7 seconds RetCode: 0 Status: OK