Package: InteractionSet Version: 1.34.0 Command: rm -rf InteractionSet.buildbin-libdir && mkdir InteractionSet.buildbin-libdir && F:\biocbuild\bbs-3.20-bioc\R\bin\R.exe CMD INSTALL --build --library=InteractionSet.buildbin-libdir InteractionSet_1.34.0.tar.gz StartedAt: 2025-02-04 08:44:56 -0500 (Tue, 04 Feb 2025) EndedAt: 2025-02-04 08:48:56 -0500 (Tue, 04 Feb 2025) EllapsedTime: 240.7 seconds RetCode: 0 Status: OK PackageFile: InteractionSet_1.34.0.zip PackageFileSize: 1.852 MiB