Package: InteractionSet Version: 1.34.0 Command: F:\biocbuild\bbs-3.20-bioc\R\bin\R.exe CMD check --no-multiarch --install=check:InteractionSet.install-out.txt --library=F:\biocbuild\bbs-3.20-bioc\R\library --no-vignettes --timings InteractionSet_1.34.0.tar.gz StartedAt: 2025-02-04 02:57:09 -0500 (Tue, 04 Feb 2025) EndedAt: 2025-02-04 03:02:35 -0500 (Tue, 04 Feb 2025) EllapsedTime: 325.9 seconds RetCode: 0 Status: OK CheckDir: InteractionSet.Rcheck Warnings: 0