Package: InteractionSet Version: 1.34.0 Command: F:\biocbuild\bbs-3.20-bioc\R\bin\R.exe CMD INSTALL InteractionSet StartedAt: 2025-02-03 16:22:37 -0500 (Mon, 03 Feb 2025) EndedAt: 2025-02-03 16:24:14 -0500 (Mon, 03 Feb 2025) EllapsedTime: 96.4 seconds RetCode: 0 Status: OK