Package: InteractionSet Version: 1.34.0 Command: /home/biocbuild/R/R/bin/R CMD build --keep-empty-dirs --no-resave-data InteractionSet StartedAt: 2025-02-04 00:25:23 -0000 (Tue, 04 Feb 2025) EndedAt: 2025-02-04 00:26:39 -0000 (Tue, 04 Feb 2025) EllapsedTime: 76.0 seconds RetCode: 0 Status: OK PackageFile: InteractionSet_1.34.0.tar.gz PackageFileSize: 457.2 KiB