Package: InteractionSet Version: 1.34.0 Command: /home/biocbuild/R/R/bin/R CMD INSTALL InteractionSet StartedAt: 2025-02-03 20:31:51 -0000 (Mon, 03 Feb 2025) EndedAt: 2025-02-03 20:32:50 -0000 (Mon, 03 Feb 2025) EllapsedTime: 59.1 seconds RetCode: 0 Status: OK