Package: IntramiRExploreR Version: 1.28.0 Command: /Library/Frameworks/R.framework/Resources/bin/R CMD INSTALL IntramiRExploreR StartedAt: 2024-11-08 15:18:18 -0500 (Fri, 08 Nov 2024) EndedAt: 2024-11-08 15:18:25 -0500 (Fri, 08 Nov 2024) EllapsedTime: 7.3 seconds RetCode: 0 Status: OK