Package: IntramiRExploreR Version: 1.28.0 Command: /Library/Frameworks/R.framework/Resources/bin/R CMD check --install=check:IntramiRExploreR.install-out.txt --library=/Library/Frameworks/R.framework/Resources/library --no-vignettes --timings IntramiRExploreR_1.28.0.tar.gz StartedAt: 2025-02-04 05:16:06 -0500 (Tue, 04 Feb 2025) EndedAt: 2025-02-04 05:17:54 -0500 (Tue, 04 Feb 2025) EllapsedTime: 107.2 seconds RetCode: 0 Status: WARNINGS CheckDir: IntramiRExploreR.Rcheck Warnings: 2