Package: IntramiRExploreR Version: 1.28.0 Command: /Library/Frameworks/R.framework/Resources/bin/R CMD INSTALL IntramiRExploreR StartedAt: 2025-02-03 15:31:33 -0500 (Mon, 03 Feb 2025) EndedAt: 2025-02-03 15:32:01 -0500 (Mon, 03 Feb 2025) EllapsedTime: 28.7 seconds RetCode: 0 Status: OK