Package: IntramiRExploreR Version: 1.28.0 Command: /home/biocbuild/bbs-3.20-bioc/R/bin/R CMD INSTALL IntramiRExploreR StartedAt: 2025-02-03 15:24:31 -0500 (Mon, 03 Feb 2025) EndedAt: 2025-02-03 15:24:42 -0500 (Mon, 03 Feb 2025) EllapsedTime: 10.5 seconds RetCode: 0 Status: OK