Package: IntramiRExploreR Version: 1.28.0 Command: rm -rf IntramiRExploreR.buildbin-libdir && mkdir IntramiRExploreR.buildbin-libdir && F:\biocbuild\bbs-3.20-bioc\R\bin\R.exe CMD INSTALL --build --library=IntramiRExploreR.buildbin-libdir IntramiRExploreR_1.28.0.tar.gz StartedAt: 2025-02-04 08:45:09 -0500 (Tue, 04 Feb 2025) EndedAt: 2025-02-04 08:46:42 -0500 (Tue, 04 Feb 2025) EllapsedTime: 93.5 seconds RetCode: 0 Status: OK PackageFile: IntramiRExploreR_1.28.0.zip PackageFileSize: 13.36 MiB