Package: IntramiRExploreR Version: 1.28.0 Command: F:\biocbuild\bbs-3.20-bioc\R\bin\R.exe CMD check --no-multiarch --install=check:IntramiRExploreR.install-out.txt --library=F:\biocbuild\bbs-3.20-bioc\R\library --no-vignettes --timings IntramiRExploreR_1.28.0.tar.gz StartedAt: 2025-02-04 02:58:34 -0500 (Tue, 04 Feb 2025) EndedAt: 2025-02-04 02:59:43 -0500 (Tue, 04 Feb 2025) EllapsedTime: 69.7 seconds RetCode: 0 Status: WARNINGS CheckDir: IntramiRExploreR.Rcheck Warnings: 2