Package: IntramiRExploreR Version: 1.28.0 Command: /home/biocbuild/R/R/bin/R CMD build --keep-empty-dirs --no-resave-data IntramiRExploreR StartedAt: 2025-02-04 00:26:30 -0000 (Tue, 04 Feb 2025) EndedAt: 2025-02-04 00:26:56 -0000 (Tue, 04 Feb 2025) EllapsedTime: 26.0 seconds RetCode: 0 Status: OK PackageFile: IntramiRExploreR_1.28.0.tar.gz PackageFileSize: 8.902 MiB