Package: IntramiRExploreR Version: 1.28.0 Command: /home/biocbuild/R/R/bin/R CMD check --install=check:IntramiRExploreR.install-out.txt --library=/home/biocbuild/R/R/site-library --no-vignettes --timings IntramiRExploreR_1.28.0.tar.gz StartedAt: 2025-02-04 08:05:44 -0000 (Tue, 04 Feb 2025) EndedAt: 2025-02-04 08:06:38 -0000 (Tue, 04 Feb 2025) EllapsedTime: 54.0 seconds RetCode: 0 Status: WARNINGS CheckDir: IntramiRExploreR.Rcheck Warnings: 2