Package: IsoBayes Version: 1.4.0 Command: /Library/Frameworks/R.framework/Resources/bin/R CMD check --install=check:IsoBayes.install-out.txt --library=/Library/Frameworks/R.framework/Resources/library --no-vignettes --timings IsoBayes_1.4.0.tar.gz StartedAt: 2025-01-31 23:05:46 -0500 (Fri, 31 Jan 2025) EndedAt: 2025-01-31 23:12:33 -0500 (Fri, 31 Jan 2025) EllapsedTime: 407.6 seconds RetCode: 0 Status: OK CheckDir: IsoBayes.Rcheck Warnings: 0