Package: IsoBayes Version: 1.4.0 Command: /Library/Frameworks/R.framework/Resources/bin/R CMD INSTALL IsoBayes StartedAt: 2024-11-08 15:22:29 -0500 (Fri, 08 Nov 2024) EndedAt: 2024-11-08 15:22:44 -0500 (Fri, 08 Nov 2024) EllapsedTime: 14.8 seconds RetCode: 0 Status: OK