Package: IsoBayes Version: 1.4.0 Command: /Library/Frameworks/R.framework/Resources/bin/R CMD check --install=check:IsoBayes.install-out.txt --library=/Library/Frameworks/R.framework/Resources/library --no-vignettes --timings IsoBayes_1.4.0.tar.gz StartedAt: 2024-11-19 23:20:35 -0500 (Tue, 19 Nov 2024) EndedAt: 2024-11-19 23:29:02 -0500 (Tue, 19 Nov 2024) EllapsedTime: 507.0 seconds RetCode: 0 Status: OK CheckDir: IsoBayes.Rcheck Warnings: 0