Package: IsoBayes Version: 1.4.0 Command: rm -rf IsoBayes.buildbin-libdir && mkdir IsoBayes.buildbin-libdir && /Users/biocbuild/BBS/utils/build-universal.sh IsoBayes_1.4.0.tar.gz /Library/Frameworks/R.framework/Resources/bin/R IsoBayes.buildbin-libdir StartedAt: 2025-01-31 13:02:17 -0500 (Fri, 31 Jan 2025) EndedAt: 2025-01-31 13:03:59 -0500 (Fri, 31 Jan 2025) EllapsedTime: 102.2 seconds RetCode: 0 Status: OK PackageFile: IsoBayes_1.4.0.tgz PackageFileSize: 1.745 MiB