Package: IsoBayes Version: 1.4.0 Command: /Library/Frameworks/R.framework/Resources/bin/R CMD check --install=check:IsoBayes.install-out.txt --library=/Library/Frameworks/R.framework/Resources/library --no-vignettes --timings IsoBayes_1.4.0.tar.gz StartedAt: 2025-02-04 05:24:24 -0500 (Tue, 04 Feb 2025) EndedAt: 2025-02-04 05:37:29 -0500 (Tue, 04 Feb 2025) EllapsedTime: 785.3 seconds RetCode: 0 Status: OK CheckDir: IsoBayes.Rcheck Warnings: 0