Package: IsoBayes Version: 1.4.0 Command: /Library/Frameworks/R.framework/Resources/bin/R CMD INSTALL IsoBayes StartedAt: 2025-02-03 15:51:38 -0500 (Mon, 03 Feb 2025) EndedAt: 2025-02-03 15:53:12 -0500 (Mon, 03 Feb 2025) EllapsedTime: 94.4 seconds RetCode: 0 Status: OK