Package: IsoBayes Version: 1.4.0 Command: /home/biocbuild/bbs-3.20-bioc/R/bin/R CMD INSTALL IsoBayes StartedAt: 2025-01-30 15:25:55 -0500 (Thu, 30 Jan 2025) EndedAt: 2025-01-30 15:26:42 -0500 (Thu, 30 Jan 2025) EllapsedTime: 46.9 seconds RetCode: 0 Status: OK