Package: IsoBayes Version: 1.4.0 Command: F:\biocbuild\bbs-3.20-bioc\R\bin\R.exe CMD check --no-multiarch --install=check:IsoBayes.install-out.txt --library=F:\biocbuild\bbs-3.20-bioc\R\library --no-vignettes --timings IsoBayes_1.4.0.tar.gz StartedAt: 2025-01-31 03:14:38 -0500 (Fri, 31 Jan 2025) EndedAt: 2025-01-31 03:21:59 -0500 (Fri, 31 Jan 2025) EllapsedTime: 441.4 seconds RetCode: 0 Status: OK CheckDir: IsoBayes.Rcheck Warnings: 0