Package: IsoCorrectoRGUI
Version: 1.22.0
Command: /Library/Frameworks/R.framework/Resources/bin/R CMD build --keep-empty-dirs --no-resave-data IsoCorrectoRGUI
StartedAt: 2025-02-18 02:09:35 -0500 (Tue, 18 Feb 2025)
EndedAt: 2025-02-18 02:09:48 -0500 (Tue, 18 Feb 2025)
EllapsedTime: 12.5 seconds
RetCode: 0
Status: OK
PackageFile: IsoCorrectoRGUI_1.22.0.tar.gz
PackageFileSize: 439.3 <A href="http://en.wikipedia.org/wiki/KiB" target="_blank">KiB</A>